BEGIN:VCALENDAR
VERSION:2.0
PRODID:-//hacksw/handcal//NONSGML v1.0//EN
CALSCALE:GREGORIAN
BEGIN:VEVENT
DTEND:20260615T113000
UID:69eaa600b427e
DTSTAMP:20260615T100000
LOCATION:Online \, Zoom
DESCRIPTION:

What is the Business Services Power Group?

Members of We Mean Biz and Women Mean Biz who have businesses that are classed as being in a B2B business service category who come together to share ideas and look to collaborate.

We meet three or four times every year on Zoom.

&nbsp\;

What is the purpose of the meeting?

To meet other members that you might want to partner with or can help share any common business issues you might have. &nbsp\;Members have found that the investment they put in to attending results in lots of ideas exchanged\, problems solved\, relationships built and business passed!

&nbsp\;

Is there a format for the meeting?

Its informal but the lose agenda is:

- Meet new members &ndash\; new members are asked to do a 5 minute introduction to them and their business
-&nbsp\;Find out what we have all been working on recently
-&nbsp\;Share examples of where members have worked collaboratively
-&nbsp\;Share what each person is looking for to see if we can help the other

&nbsp\;

Please contact Leanne Matthews&nbsp\;if you are interested in attending:
info@purplefrogs.co.uk
Tel: 07512 775944&nbsp\;

SUMMARY:Women Mean Biz Power Group - Business Services 
DTSTART:20260615T100000
END:VEVENT
END:VCALENDAR